BEGIN:VCALENDAR
VERSION:2.0
PRODID:-//Bound by Veterans - Wiltshire Barn - ECPv5.8.0//NONSGML v1.0//EN
CALSCALE:GREGORIAN
METHOD:PUBLISH
X-WR-CALNAME:Bound by Veterans - Wiltshire Barn
X-ORIGINAL-URL:https://wiltshirebarn.co.uk
X-WR-CALDESC:Events for Bound by Veterans - Wiltshire Barn
BEGIN:VTIMEZONE
TZID:Europe/London
BEGIN:DAYLIGHT
TZOFFSETFROM:+0000
TZOFFSETTO:+0100
TZNAME:BST
DTSTART:20200329T010000
END:DAYLIGHT
BEGIN:STANDARD
TZOFFSETFROM:+0100
TZOFFSETTO:+0000
TZNAME:GMT
DTSTART:20201025T010000
END:STANDARD
END:VTIMEZONE
BEGIN:VEVENT
DTSTART;VALUE=DATE:20201024
DTEND;VALUE=DATE:20201026
DTSTAMP:20260419T221734
CREATED:20200117T134114Z
LAST-MODIFIED:20200117T135137Z
UID:1158-1603497600-1603670399@wiltshirebarn.co.uk
SUMMARY:C&G Level 1 Second Award - Photo Albums and Slip Cases (Unit 119 - Part 2)
DESCRIPTION:For those with a little bookbinding experience\, this course is the second unit necessary for the Level 1 C&G certificate in Bookbinding\, where you will learn how to make two different types of photograph album\, one with folded guards\, and one with stiff boards\, and a lined cloth slipcase. (This course is Part 2/of 2)
URL:https://wiltshirebarn.co.uk/event/cg-level-1-second-award-photo-albums-and-slip-cases-unit-119-part-2/
END:VEVENT
END:VCALENDAR