BEGIN:VCALENDAR
VERSION:2.0
PRODID:-//Bound by Veterans - Wiltshire Barn - ECPv5.8.0//NONSGML v1.0//EN
CALSCALE:GREGORIAN
METHOD:PUBLISH
X-WR-CALNAME:Bound by Veterans - Wiltshire Barn
X-ORIGINAL-URL:https://wiltshirebarn.co.uk
X-WR-CALDESC:Events for Bound by Veterans - Wiltshire Barn
BEGIN:VTIMEZONE
TZID:Europe/London
BEGIN:DAYLIGHT
TZOFFSETFROM:+0000
TZOFFSETTO:+0100
TZNAME:BST
DTSTART:20200329T010000
END:DAYLIGHT
BEGIN:STANDARD
TZOFFSETFROM:+0100
TZOFFSETTO:+0000
TZNAME:GMT
DTSTART:20201025T010000
END:STANDARD
END:VTIMEZONE
BEGIN:VEVENT
DTSTART;VALUE=DATE:20201109
DTEND;VALUE=DATE:20201111
DTSTAMP:20260424T164343
CREATED:20200117T171226Z
LAST-MODIFIED:20201106T124059Z
UID:1170-1604880000-1605052799@wiltshirebarn.co.uk
SUMMARY:CANCELLED - Paper Marbling
DESCRIPTION:Learn how to create your own elegantly marbled paper for book coverings. [Regrettably this course has had to be cancelled because of the Covid19 lockdown]
URL:https://wiltshirebarn.co.uk/event/paper-marbling-2/
LOCATION:Daffodil Barn
END:VEVENT
END:VCALENDAR