BEGIN:VCALENDAR
VERSION:2.0
PRODID:-//Bound by Veterans - Wiltshire Barn - ECPv5.8.0//NONSGML v1.0//EN
CALSCALE:GREGORIAN
METHOD:PUBLISH
X-WR-CALNAME:Bound by Veterans - Wiltshire Barn
X-ORIGINAL-URL:https://wiltshirebarn.co.uk
X-WR-CALDESC:Events for Bound by Veterans - Wiltshire Barn
BEGIN:VTIMEZONE
TZID:Europe/London
BEGIN:DAYLIGHT
TZOFFSETFROM:+0000
TZOFFSETTO:+0100
TZNAME:BST
DTSTART:20200329T010000
END:DAYLIGHT
BEGIN:STANDARD
TZOFFSETFROM:+0100
TZOFFSETTO:+0000
TZNAME:GMT
DTSTART:20201025T010000
END:STANDARD
END:VTIMEZONE
BEGIN:VEVENT
DTSTART;TZID=Europe/London:20200218T100000
DTEND;TZID=Europe/London:20200220T160000
DTSTAMP:20260424T160243
CREATED:20200110T170938Z
LAST-MODIFIED:20200110T172738Z
UID:1056-1582020000-1582214400@wiltshirebarn.co.uk
SUMMARY:Explorer Workshop Production Days
DESCRIPTION:BBV is producing new Explorer notebooks for sale through the charity and these production sessions (held at The Daffodil Barn) are for anyone who might  like to help with the making of these products\, regardless of the experience you might have with bookbinding. If you have previous experience of bookbinding these session will broaden your knowledge and experience. \nPlease contact Wendy Lagden on courses@boundbyveterans.co.uk to let her know who will be coming. \nPlease  note we are unable to assist with the booking of accommodation
URL:https://wiltshirebarn.co.uk/event/explorer-workshop-production-days/
LOCATION:Daffodil Barn
END:VEVENT
END:VCALENDAR