BEGIN:VCALENDAR
VERSION:2.0
PRODID:-//Bound by Veterans - Wiltshire Barn - ECPv5.8.0//NONSGML v1.0//EN
CALSCALE:GREGORIAN
METHOD:PUBLISH
X-WR-CALNAME:Bound by Veterans - Wiltshire Barn
X-ORIGINAL-URL:https://wiltshirebarn.co.uk
X-WR-CALDESC:Events for Bound by Veterans - Wiltshire Barn
BEGIN:VTIMEZONE
TZID:Europe/London
BEGIN:DAYLIGHT
TZOFFSETFROM:+0000
TZOFFSETTO:+0100
TZNAME:BST
DTSTART:20200329T010000
END:DAYLIGHT
BEGIN:STANDARD
TZOFFSETFROM:+0100
TZOFFSETTO:+0000
TZNAME:GMT
DTSTART:20201025T010000
END:STANDARD
END:VTIMEZONE
BEGIN:VEVENT
DTSTART;VALUE=DATE:20200224
DTEND;VALUE=DATE:20200227
DTSTAMP:20260424T173447
CREATED:20181120T120410Z
LAST-MODIFIED:20200110T173526Z
UID:732-1582502400-1582761599@wiltshirebarn.co.uk
SUMMARY:C&G Level 3 Diploma	-  Lift-Off Lid Box\, Portfolio and Phase Box
DESCRIPTION:Part of our Storage and Enclosures programme for C&G Level 3\, you will learn to make a classic artist’s portfolio with three inner flaps and ribbon ties\, and a lift-off lid/chocolate box.  Some bookbinding experience is necessary. \nTo book a place on the above course please email: courses@boundbyveterans.co.uk 
URL:https://wiltshirebarn.co.uk/event/cg-level-3-diploma-artists-portfolio-and-lift-off-lid-box-2/
LOCATION:Daffodil Barn
END:VEVENT
END:VCALENDAR