BEGIN:VCALENDAR
VERSION:2.0
PRODID:-//Bound by Veterans - Wiltshire Barn - ECPv5.8.0//NONSGML v1.0//EN
CALSCALE:GREGORIAN
METHOD:PUBLISH
X-WR-CALNAME:Bound by Veterans - Wiltshire Barn
X-ORIGINAL-URL:https://wiltshirebarn.co.uk
X-WR-CALDESC:Events for Bound by Veterans - Wiltshire Barn
BEGIN:VTIMEZONE
TZID:Europe/London
BEGIN:DAYLIGHT
TZOFFSETFROM:+0000
TZOFFSETTO:+0100
TZNAME:BST
DTSTART:20200329T010000
END:DAYLIGHT
BEGIN:STANDARD
TZOFFSETFROM:+0100
TZOFFSETTO:+0000
TZNAME:GMT
DTSTART:20201025T010000
END:STANDARD
END:VTIMEZONE
BEGIN:VEVENT
DTSTART;VALUE=DATE:20200210
DTEND;VALUE=DATE:20200215
DTSTAMP:20260424T141449
CREATED:20181120T112246Z
LAST-MODIFIED:20200110T171731Z
UID:708-1581292800-1581724799@wiltshirebarn.co.uk
SUMMARY:C&G Level 1 (Unit 119) - Photograph Albums and Slipcase
DESCRIPTION:For those with a little bookbinding experience\, this course is the second unit necessary for the Level 1 C&G certificate in Bookbinding\, where you will learn how to make two different types of photograph album\, one with folded guards\, and one with stiff boards\, and a lined cloth slipcase.
URL:https://wiltshirebarn.co.uk/event/cg-level-1-unit-119-photograph-albums-and-slipcase-2/
LOCATION:Daffodil Barn
END:VEVENT
END:VCALENDAR